Workbook

Sheet 2026 Paper 2
A1: AMESA Matric Maths Review 2026 - Paper 2
A3: Q. no | B3: Procedure | C3: Allocation of marks to cognitive levels | G3: Marks | H3: Topic | I3: Comments
C4: Kn | D4: RP | E4: CP | F4: PS
C5: 0.2 | D5: 0.35 | E5: 0.3 | F5: 0.15
C6: =SUM(C8:C69)/$G$6 -> 0.073333333 | D6: =SUM(D8:D69)/$G$6 -> 0.56 | E6: =SUM(E8:E69)/$G$6 -> 0.23333333 | F6: =SUM(F8:F69)/$G$6 -> 0.13333333 | G6: =SUM(G8:G69) -> 150
A7: Q1: | B7: Statistics & Regression [8]
A8: 1.1 | B8: Number of vehicles passed | C8: 1 | G8: 1 | H8: =SUM(G8:G12) -> 8 | J8: Statistics & Regression | K8: 20 ± 3 | L8: =H8+H14 -> 21
A9: 1.2 | B9: Median speed | C9: 1 | G9: 1 | J9: Analytical Geometry | K9: 40 ± 3 | L9: =H20+H27 -> 41
A10: 1.3 | B10: No. of motorists travelling > 60 km/h | D10: 1 | G10: 1 | J10: Trigonometry | K10: 50 ± 3 | L10: =SUM(H36,H42,H48,H54) -> 50
A11: 1.4 | B11: Frequency table | C11: 2 | G11: 2 | J11: Euclidean Geometry | K11: 40 ± 3 | L11: =SUM(H58,H62,H65) -> 38
A12: 1.5 | B12: Calculate est. ave. speed | D12: 3 | G12: 3 | J12: Total | L12: =SUM(L8:L11) -> 150
A13: Q2: | B13: Statistics & Regression [13]
A14: 2.1.1 | B14: Draw scatter plot | C14: 3 | G14: 3 | H14: =SUM(G14:G18) -> 13
A15: 2.1.2 | B15: Eqn. of least sq. regression | D15: 3 | G15: 3
A16: 2.1.3 | B16: Predict % battery life | D16: 2 | G16: 2
A17: 2.1.4 | B17: Standard deviation | D17: 1 | G17: 1
A18: 2.2 | B18: No. of months battery will last | F18: 4 | G18: 4
A19: Q3: | B19: Analytical Geometry [21]
A20: 3.1 | B20: Gradient of CD | D20: 2 | G20: 2 | H20: =SUM(G20:G25) -> 21
A21: 3.2 | B21: Coordinates of F | D21: 2 | G21: 2
A22: 3.3 | B22: Show coordinates of E | D22: 3 | G22: 3
A23: 3.4 | B23: Area of triangle CDE | E23: 4 | G23: 4
A24: 3.5 | B24: Size of angle ABC | E24: 4 | G24: 4
A25: 3.6 | B25: Eqn. of circle | E25: 6 | G25: 6
A26: Q4: | B26: Analytical Geometry [20]
A27: 4.1 | B27: Equation of larger circle | C27: 1 | G27: 1 | H27: =SUM(G27:G34) -> 20
A28: 4.2 | B28: Gradient of AK | D28: 1 | G28: 1
A29: 4.3 | B29: Equation of tangent at K | D29: 3 | G29: 3
A30: 4.4 | B30: Coordinates of M | D30: 3 | G30: 3
A31: 4.5 | B31: Length of radius | D31: 1 | G31: 1
A32: 4.6 | B32: Coordinates of T | E32: 4 | G32: 4
A33: 4.7 | B33: Collinear K, A & T | D33: 2 | G33: 2
A34: 4.8 | B34: Circles touch externally | F34: 5 | G34: 5
A35: Q5: | B35: Trigonometry [15]
A36: 5.1.1 | B36: sin 12 | D36: 2 | G36: 2 | H36: =SUM(G36:G40) -> 15
A37: 5.1.2 | B37: tan(-12) | D37: 2 | G37: 2
A38: 5.1.3 | B38: 1 - 2 sin239 | D38: 2 | G38: 2
A39: 5.2 | B39: Prove identity | D39: 6 | G39: 6
A40: 5.3 | B40: Value of theta undefined | D40: 3 | G40: 3
A41: Q6: | B41: Trigonometry [15]
A42: 6.1.1 | B42: Compound angle expansion | D42: 2 | G42: 2 | H42: =SUM(G42:G46) -> 15
A43: 6.1.2 | B43: Value of expression | E43: 3 | G43: 3
A44: 6.2 | B44: Prove identity | E44: 3 | G44: 3
A45: 6.3.1 | B45: Calculate size of A | D45: 1 | G45: 1
A46: 6.3.2 | B46: General solution | F46: 6 | G46: 6
A47: Q7: | B47: Trigonometry [9]
A48: 7.1 | B48: Range of f | C48: 1 | G48: 1 | H48: =SUM(G48:G52) -> 9
A49: 7.2 | B49: Period of f | C49: 1 | G49: 1
A50: 7.3 | B50: Sketch graph | D50: 3 | G50: 3
A51: 7.4.1 | B51: Show AB = | D51: 2 | G51: 2
A52: 7.4.2 | B52: Minimum distance | E52: 2 | G52: 2
A53: Q8: | B53: Trigonometry [11]
A54: 8.1 | B54: Cos Rule proof | D54: 4 | G54: 4 | H54: =SUM(G54:G56) -> 11
A55: 8.2.1 | B55: Show equation | D55: 2 | G55: 2
A56: 8.2.2 | B56: Height of Christmas tree | E56: 5 | G56: 5
A57: Q9: | B57: Euclidean Geometry [10]
A58: 9.1.1 | B58: Angle P1 | D58: 2 | G58: 2 | H58: =SUM(G58:G60) -> 10
A59: 9.1.2 | B59: Angle PRS | D59: 2 | G59: 2
A60: 9.2 | B60: Size of angle D | D60: 6 | G60: 6
A61: Q10: | B61: Euclidean Geometry [7]
A62: 10.1 | B62: Length of HK | D62: 3 | G62: 3 | H62: =SUM(G62:G63) -> 7
A63: 10.2 | B63: Area ratio | E63: 4 | G63: 4
A64: Q11: | B64: Euclidean Geometry [21]
A65: 11.1 | B65: Similarity theorem | D65: 6 | G65: 6 | H65: =SUM(G65:G69) -> 21
A66: 11.2.1 | B66: TL = LP | C66: 1 | G66: 1
A67: 11.2.2 | B67: Prove similar triangles | D67: 4 | G67: 4
A68: 11.2.3 | B68: Prove ratio | D68: 5 | G68: 5
A69: 11.2.4 | B69: MP/PT = ... | F69: 5 | G69: 5
C71: =SUM(C8:C69) -> 11 | D71: =SUM(D8:D69) -> 84 | E71: =SUM(E8:E69) -> 35 | F71: =SUM(F8:F69) -> 20 | G71: =SUM(G8:G69) -> 150
C74: Kn | D74: RP | E74: CP | F74: PS | G74: Marks
B75: Statistics and regression | C75: =SUM(C8:C18) -> 7 | D75: =SUM(D8:D18) -> 10 | E75: =SUM(E8:E18) -> 0 | F75: =SUM(F8:F18) -> 4 | G75: =SUM(G8:G18) -> 21
C76: =SUM(C75/20) -> 0.35 | D76: =SUM(D75/20) -> 0.5 | E76: =SUM(E75/20) -> 0 | F76: =SUM(F75/20) -> 0.2
B78: Analytical Geometry | C78: =SUM(C20:C34) -> 1 | D78: =SUM(D20:D34) -> 17 | E78: =SUM(E20:E34) -> 18 | F78: =SUM(F20:F34) -> 5 | G78: =SUM(G20:G34) -> 41
C79: =SUM(C78/39) -> 0.025641026 | D79: =SUM(D78/39) -> 0.43589744 | E79: =SUM(E78/39) -> 0.46153846 | F79: =SUM(F78/39) -> 0.12820513
B81: Trigonometry | C81: =SUM(C36:C40,C42:C46,C48:C52,C54:C56) -> 2 | D81: =SUM(D36:D40,D42:D46,D48:D52,D54:D56) -> 29 | E81: =SUM(E36:E40,E42:E46,E48:E52,E54:E56) -> 13 | F81: =SUM(F36:F40,F42:F46,F48:F52,F54:F56) -> 6 | G81: =SUM(G36:G40,G42:G46,G48:G52,G54:G56) -> 50
C82: =SUM(C81/50) -> 0.04 | D82: =SUM(D81/50) -> 0.58 | E82: =SUM(E81/50) -> 0.26 | F82: =SUM(F81/50) -> 0.12
B84: Euclidean Geometry | C84: =SUM(C58:C60,C62:C63,C65:C69) -> 1 | D84: =SUM(D58:D60,D62:D63,D65:D69) -> 28 | E84: =SUM(E58:E60,E62:E63,E65:E69) -> 4 | F84: =SUM(F58:F60,F62:F63,F65:F69) -> 5 | G84: =SUM(G58:G60,G62:G63,G65:G69) -> 38
C85: =SUM(C84/41) -> 0.024390244 | D85: =SUM(D84/41) -> 0.68292683 | E85: =SUM(E84/41) -> 0.097560976 | F85: =SUM(F84/41) -> 0.12195122
B88: Grade 11 vs Grade 12 Content | C88: Grade 11 | D88: Grade 12
B89: Statistics and Regression | C89: 0.6 | D89: 0.4
B90: Analytical Geometry | C90: 0.46 | D90: 0.54
B91: Trigonometry | C91: 0.48 | D91: 0.52
B92: Euclidean Geometry | C92: 0.44 | D92: 0.56

Sheet Sheet1
B1: Kn + RP | C1: CP | D1: PS
A2: Proposed | B2: ='2026 Paper 2'!C5+'2026 Paper 2'!D5 -> 0.55 | C2: ='2026 Paper 2'!E5 -> 0.3 | D2: ='2026 Paper 2'!F5 -> 0.15
A3: Actual | B3: ='2026 Paper 2'!C6+'2026 Paper 2'!D6 -> 0.63333333 | C3: ='2026 Paper 2'!E6 -> 0.23333333 | D3: ='2026 Paper 2'!F6 -> 0.13333333
