Workbook

Sheet 2026 Paper 2
A1: AMESA Matric Maths Review 2026 - Paper 2
A3: Q. no | B3: Procedure | C3: Allocation of marks to cognitive levels | G3: Marks | H3: Topic | I3: Comments
C4: Kn | D4: RP | E4: CP | F4: PS
C5: 0.2 | D5: 0.35 | E5: 0.3 | F5: 0.15
C6: =SUM(C8:C69)/$G$6 -> 0.073333333 | D6: =SUM(D8:D69)/$G$6 -> 0.56 | E6: =SUM(E8:E69)/$G$6 -> 0.23333333 | F6: =SUM(F8:F69)/$G$6 -> 0.13333333 | G6: =SUM(G8:G69) -> 150
A7: Q1: | B7: Statistics & Regression [8]
A8: 1.1 | B8: Number of vehicles passed | C8: 1 | G8: 1 | H8: =SUM(G8:G12) -> 8 | J8: Statistics & Regression | K8: 20 ± 3 | L8: =H8+H14 -> 21
A9: 1.2 | B9: Median speed | C9: 1 | G9: 1 | J9: Analytical Geometry | K9: 40 ± 3 | L9: =H20+H27 -> 41
A10: 1.3 | B10: No. of motorists travelling > 60 km/h | D10: 1 | G10: 1 | J10: Trigonometry | K10: 50 ± 3 | L10: =SUM(H36,H42,H48,H54) -> 50
A11: 1.4 | B11: Frequency table | C11: 2 | G11: 2 | J11: Euclidean Geometry | K11: 40 ± 3 | L11: =SUM(H58,H62,H65) -> 38
A12: 1.5 | B12: Calculate est. ave. speed | D12: 3 | G12: 3 | J12: Total | L12: =SUM(L8:L11) -> 150
A13: Q2: | B13: Statistics & Regression [13]
A14: 2.1.1 | B14: Draw scatter plot | C14: 3 | G14: 3 | H14: =SUM(G14:G18) -> 13
A15: 2.1.2 | B15: Eqn. of least sq. regression | D15: 3 | G15: 3
A16: 2.1.3 | B16: Predict % battery life | D16: 2 | G16: 2
A17: 2.1.4 | B17: Standard deviation | D17: 1 | G17: 1
A18: 2.2 | B18: No. of months battery will last | F18: 4 | G18: 4
A19: Q3: | B19: Analytical Geometry [21]
A20: 3.1 | B20: Gradient of CD | D20: 2 | G20: 2 | H20: =SUM(G20:G25) -> 21
A21: 3.2 | B21: Coordinates of F | D21: 2 | G21: 2
A22: 3.3 | B22: Show coordinates of E | D22: 3 | G22: 3
A23: 3.4 | B23: Area of triangle CDE | E23: 4 | G23: 4
A24: 3.5 | B24: Size of angle ABC | E24: 4 | G24: 4
A25: 3.6 | B25: Eqn. of circle | E25: 6 | G25: 6
A26: Q4: | B26: Analytical Geometry [20]
A27: 4.1 | B27: Equation of larger circle | C27: 1 | G27: 1 | H27: =SUM(G27:G34) -> 20
A28: 4.2 | B28: Gradient of AK | D28: 1 | G28: 1
A29: 4.3 | B29: Equation of tangent at K | D29: 3 | G29: 3
A30: 4.4 | B30: Coordinates of M | D30: 3 | G30: 3
A31: 4.5 | B31: Length of radius | D31: 1 | G31: 1
A32: 4.6 | B32: Coordinates of T | E32: 4 | G32: 4
A33: 4.7 | B33: Collinear K, A & T | D33: 2 | G33: 2
A34: 4.8 | B34: Circles touch externally | F34: 5 | G34: 5
A35: Q5: | B35: Trigonometry [15]
A36: 5.1.1 | B36: sin 12 | D36: 2 | G36: 2 | H36: =SUM(G36:G40) -> 15
A37: 5.1.2 | B37: tan(-12) | D37: 2 | G37: 2
A38: 5.1.3 | B38: 1 - 2 sin239 | D38: 2 | G38: 2
A39: 5.2 | B39: Prove identity | D39: 6 | G39: 6
A40: 5.3 | B40: Value of theta undefined | D40: 3 | G40: 3
A41: Q6: | B41: Trigonometry [15]
...

Sheet Sheet1
B1: Kn + RP | C1: CP | D1: PS
A2: Proposed | B2: ='2026 Paper 2'!C5+'2026 Paper 2'!D5 -> 0.55 | C2: ='2026 Paper 2'!E5 -> 0.3 | D2: ='2026 Paper 2'!F5 -> 0.15
A3: Actual | B3: ='2026 Paper 2'!C6+'2026 Paper 2'!D6 -> 0.63333333 | C3: ='2026 Paper 2'!E6 -> 0.23333333 | D3: ='2026 Paper 2'!F6 -> 0.13333333
