Workbook

Sheet 2026 Paper 1
B1: 2026 AMESA MATHS P1 EXAM REVIEW hosted by TAS
A3: Q. no | B3: Procedure | C3: Allocation of marks to cognitive levels | G3: Marks | H3: Total | I3: Comments
C4: Kn | D4: RP | E4: CP | F4: PS
C5: 0.2 | D5: 0.35 | E5: 0.3 | F5: 0.15
C6: =SUM(C8:C65)/$G$6 -> 0.066666667 | D6: =SUM(D8:D65)/$G$6 -> 0.50666667 | E6: =SUM(E8:E65)/$G$6 -> 0.27333333 | F6: =SUM(F8:F65)/$G$6 -> 0.15333333 | G6: =SUM(G8:G65) -> 150
A7: Q1: | B7: Algebra [24] | J7: Algebra and Equations (inequalities) | K7: 25 ± 3 | L7: =H8 -> 24
A8: 1.1.1 | B8: quadratic equation (easy to factorise) | D8: 3 | G8: 3 | H8: =SUM(G8:G13) -> 24 | J8: Patterns and Sequences | K8: 25 ± 3 | L8: =SUM(H15,H22) -> 23
A9: 1.1.2 | B9: quadratic formula | D9: 4 | G9: 4 | J9: Finance, Growth and Decay | K9: 15 ± 3 | L9: =H41 -> 14
A10: 1.1.3 | B10: exponential equation | E10: 3 | G10: 3 | J10: Functions and Graphs | K10: 35 ± 3 | L10: =SUM(H25,H30,H35) -> 36
A11: 1.1.4 | B11: surd equation | E11: 4 | G11: 4 | J11: Differential Calculus | K11: 35 ± 3 | L11: =SUM(H46,H50,H56) -> 36
A12: 1.2 | B12: simultaneous equations | D12: 5 | G12: 5 | J12: Probability | K12: 15 ± 3 | L12: =H60 -> 17
A13: 1.3 | B13: word problem | E13: 5 | G13: 5 | I13: What if learners assume natural numbers or integers? | J13: Total | L13: =SUM(L7:L12) -> 150
A14: Q2: | B14: Patterns & Sequences [14]
A15: 2.1.1 | B15: constant difference in AS | C15: 1 | G15: 1 | H15: =SUM(G15:G20) -> 14
A16: 2.1.2 | B16: position of last term in AS | D16: 2 | G16: 2
A17: 2.1.3 | B17: sum of last 65 terms in AS | E17: 3 | G17: 3
A18: 2.2.1 | B18: first TWO terms of GS | C18: 2 | G18: 2
A19: 2.2.2 | B19: position of term in GS | D19: 3 | G19: 3
A20: 2.2.3 | B20: sum to infinity | D20: 3 | G20: 3
A21: Q3: | B21: Patterns & Sequences [9]
A22: 3.1 | B22: general term of quadratic pattern | E22: 4 | G22: 4 | H22: =SUM(G22:G23) -> 9
A23: 3.2 | B23: litres of water passed through at end of first minute | F23: 5 | G23: 5
A24: Q4: | B24: Functions [9]
A25: 4.1 | B25: explain why f is a decreasing function | C25: 1 | G25: 1 | H25: =SUM(G25:G28) -> 9 | I25: Not sure what is wanted in the answer? Can a learner just write down 0 < b < 1? Can learners refer to the vertical line test?
A26: 4.2 | B26: determine f-1 | D26: 2 | G26: 2
A27: 4.3 | B27: draw graph of f and f-1 | D27: 4 | G27: 4
A28: 4.4 | B28: write down values of x | E28: 2 | G28: 2
A29: Q5: | B29: Functions [11]
A30: 5.1 | B30: coordinates of T | C30: 1 | G30: 1 | H30: =SUM(G30:G33) -> 11
A31: 5.2 | B31: show values of a, b and c | D31: 4 | G31: 4
A32: 5.3.1 | B32: x-values for f(x) + 18 > 0 | E32: 3 | G32: 3 | I32: Is "use the graph" appropriate here? Cannot be done by inspection.
A33: 5.3.2 | B33: str lines g(x).g-1(x) = 0 | E33: 3 | G33: 3 | I33: Is "using the equation" using the graph in this scenario? One has to do some calculations, you cannot just "use the graph".
A34: Q6: | B34: Functions [16]
A35: 6.1 | B35: equation of vertical asymptote of f | C35: 1 | G35: 1 | H35: =SUM(G35:G39) -> 16
A36: 6.2 | B36: range of f | C36: 1 | G36: 1
A37: 6.3 | B37: coordinates of B | D37: 3 | G37: 3
A38: 6.4 | B38: values of k | E38: 6 | G38: 6 | I38: Easy to do with calculus if you have done FS Maths.
A39: 6.5 | B39: calculate distance between B and D | F39: 5 | G39: 5 | I39: The uneven scale of the graph made it difficult to get feasible answers.
A40: Q7: | B40: Finance [14]
A41: 7.1 | B41: calculate book value of car | D41: 3 | G41: 3 | H41: =SUM(G41:G44) -> 14
A42: 7.2 | B42: calculate investment's worth at the end of 5 years | D42: 4 | G42: 4
A43: 7.3.1 | B43: calculate value of fund at retirement | D43: 4 | G43: 4
A44: 7.3.2 | B44: calculate maximum amount of monthly withdrawals | E44: 3 | G44: 3 | I44: Wording? Is the 20 years AFTER the withdrawal on 31 January 2024, so 20 years plus one month?
A45: Q8: | B45: Calculus [11]
A46: 8.1 | B46: first principles | D46: 5 | G46: 5 | H46: =SUM(G46:G48) -> 11
A47: 8.2.1 | B47: derivative (basic) | D47: 3 | G47: 3
A48: 8.2.2 | B48: derivative (fractions) | D48: 3 | G48: 3
A49: Q9: | B49: Calculus [17]
A50: 9.1.1 | B50: show that (x - 1) is a factor of f(x) | C50: 1 | G50: 1 | H50: =SUM(G50:G54) -> 17
A51: 9.1.2 | B51: calculate coordinates of x-intercepts of f | D51: 3 | G51: 3 | I51: Do learners have to show working, or can they use the calculator? It also becomes unfair for those who cannot afford the Casio 991. The use of the Casio 991 also saves time in the exam.
A52: 9.1.3 | B52: calculate values of k for 3 distinct real roots | E52: 5 | G52: 5
A53: 9.1.4 | B53: determine values of x for concave up | F53: 2 | G53: 2
A54: 9.2 | B54: calculate values of a, b and c | F54: 6 | G54: 6
A55: Q10: | B55: Calculus [8]
A56: 10.1 | B56: express h in terms of x | D56: 2 | G56: 2 | H56: =SUM(G56:G58) -> 8
A57: 10.2 | B57: show equation for volume | D57: 2 | G57: 3
A58: 10.3 | B58: calculate value of x that will maximise volume | D58: 4 | G58: 3
A59: Q11: | B59: Probability [17]
A60: 11.1.1 | B60: A and B mutually exclusive? | C60: 2 | G60: 2 | H60: =SUM(G60:G65) -> 17
A61: 11.1.2 | B61: determine P(B) | D61: 3 | G61: 3
A62: 11.2.1 | B62: show that x = 42 | D62: 1 | G62: 1
A63: 11.2.2 | B63: Maths and LS independent? | D63: 5 | G63: 5
A64: 11.3.1 | B64: how many different ways bottles can be arranged | D64: 1 | G64: 1 | I64: Some people thought there were only three bottles on the shelf. Wording was not that clear. Even first language teachers struggled to understand what was being asked. This is a problem every exam with probability.
A65: 11.3.2 | B65: how many bottles of juice broke | F65: 5 | G65: 5 | I65: The question says the juice is in glass bottles, but it didn't say if the other bottles were glass or not. In the opening paragraph it says "fruit juice" but then it only mentioned "juice". Trial and error full marks??? Only 4 options. But "a few" were broken means it can only be 2 or 3 bottles.
C66: =SUM(C8:C65) -> 10 | D66: =SUM(D8:D65) -> 76 | E66: =SUM(E8:E65) -> 41 | F66: =SUM(F8:F65) -> 23 | G66: =SUM(G8:G65) -> 150

Sheet Graph
B48: Kn & RP | C48: CP | D48: PS
A49: Proposed | B49: 0.55 | C49: 0.3 | D49: 0.15
A50: Agreed on Cognitive Levels | B50: ='2026 Paper 1'!C6+'2026 Paper 1'!D6 -> 0.57333333 | C50: ='2026 Paper 1'!E6 -> 0.27333333 | D50: ='2026 Paper 1'!F6 -> 0.15333333

Sheet Gr 11 vs Gr 12
B1: Grade 11 | C1: Grade 12
A2: Algebra | B2: 24
A3: Patterns & Sequences | B3: 4 | C3: 19
A4: Functions | B4: 25 | C4: 11
A5: Finance | B5: 4 | C5: 10
A6: Calculus | C6: 36
A7: Probability | B7: 16 | C7: 1
A8: Totals | B8: =SUM(B2:B7) -> 73 | C8: =SUM(C3:C7) -> 77 | D8: =B8+C8 -> 150
B9: =B8/150 -> 0.48666667 | C9: =C8/150 -> 0.51333333

Sheet Graph combining Kn and RP
C3: Kn + RP | D3: CP | E3: PS
A4: ='2026 Paper 1'!C5 -> 0.2 | B4: ='2026 Paper 1'!D5 -> 0.35 | C4: =A4+B4 -> 0.55 | D4: ='2026 Paper 1'!E5 -> 0.3 | E4: ='2026 Paper 1'!F5 -> 0.15
A5: ='2026 Paper 1'!C6 -> 0.066666667 | B5: ='2026 Paper 1'!D6 -> 0.50666667 | C5: =A5+B5 -> 0.57333333 | D5: ='2026 Paper 1'!E6 -> 0.27333333 | E5: ='2026 Paper 1'!F6 -> 0.15333333
